BEGIN:VCALENDAR
VERSION:2.0
PRODID:-// - ECPv6.15.15//NONSGML v1.0//EN
CALSCALE:GREGORIAN
METHOD:PUBLISH
X-ORIGINAL-URL:https://www.sldread.org
X-WR-CALDESC:Events for 
REFRESH-INTERVAL;VALUE=DURATION:PT1H
X-Robots-Tag:noindex
X-PUBLISHED-TTL:PT1H
BEGIN:VTIMEZONE
TZID:America/Detroit
BEGIN:DAYLIGHT
TZOFFSETFROM:-0500
TZOFFSETTO:-0400
TZNAME:EDT
DTSTART:20180311T070000
END:DAYLIGHT
BEGIN:STANDARD
TZOFFSETFROM:-0400
TZOFFSETTO:-0500
TZNAME:EST
DTSTART:20181104T060000
END:STANDARD
BEGIN:DAYLIGHT
TZOFFSETFROM:-0500
TZOFFSETTO:-0400
TZNAME:EDT
DTSTART:20190310T070000
END:DAYLIGHT
BEGIN:STANDARD
TZOFFSETFROM:-0400
TZOFFSETTO:-0500
TZNAME:EST
DTSTART:20191103T060000
END:STANDARD
BEGIN:DAYLIGHT
TZOFFSETFROM:-0500
TZOFFSETTO:-0400
TZNAME:EDT
DTSTART:20200308T070000
END:DAYLIGHT
BEGIN:STANDARD
TZOFFSETFROM:-0400
TZOFFSETTO:-0500
TZNAME:EST
DTSTART:20201101T060000
END:STANDARD
END:VTIMEZONE
BEGIN:VEVENT
DTSTART;TZID=America/Detroit:20190621T083000
DTEND;TZID=America/Detroit:20190621T123000
DTSTAMP:20260420T013144
CREATED:20171213T191615Z
LAST-MODIFIED:20190220T181415Z
UID:3964-1561105800-1561120200@www.sldread.org
SUMMARY:Picture This! Comprehension Strategies - Grand Rapids Area
DESCRIPTION:This course provides direct instruction in comprehension skills\, understanding the theory behind the process of transferring thought (pictures) to words and techniques used for teaching comprehension through imagery and vocalizing. \n$275 per person. No fee for SLD Read tutors. \nCourse content includes: \n\nlanguage comprehension and the brain\nDual Coding Theory\ndeveloping imagery skills\noral expression development\nvocabulary comprehension\nthe connections between oral and written expression\nsupporting students for making inferences\, finding the main idea\, paraphrasing and making predictions\nopportunities for practice\n\nThis course is open to reading specialists\, Title I\, RtI\, paraprofessionals\, general and special education teachers. \nRegistration needed by 6/4/19 \n[su_button url=”https://sldread.org/what-we-do/professional-development-and-coaching/sld-read-professional-development-course-registration/” style=”ghost” background=”#0080b2″ color=”#0080b2″ size=”6″ radius=”0″ icon_color=”#0080b2″ text_shadow=”0px 0px 0px #000000″]Register Online Now[/su_button]
URL:https://www.sldread.org/event/picture-comprehension-strategies-grand-rapids/
LOCATION:Grand Rapids SLD Read Office\, 2650 Horizon Drive Southeast\, Grand Rapids\, MI\, 49546
CATEGORIES:Trainings,Tutor Training
ATTACH;FMTTYPE=image/jpeg:https://www.sldread.org/wp-content/uploads/2013/01/dystinctive-thinker.jpg
END:VEVENT
END:VCALENDAR