BEGIN:VCALENDAR
VERSION:2.0
PRODID:-// - ECPv6.15.15//NONSGML v1.0//EN
CALSCALE:GREGORIAN
METHOD:PUBLISH
X-ORIGINAL-URL:https://www.sldread.org
X-WR-CALDESC:Events for 
REFRESH-INTERVAL;VALUE=DURATION:PT1H
X-Robots-Tag:noindex
X-PUBLISHED-TTL:PT1H
BEGIN:VTIMEZONE
TZID:America/Detroit
BEGIN:DAYLIGHT
TZOFFSETFROM:-0500
TZOFFSETTO:-0400
TZNAME:EDT
DTSTART:20250309T070000
END:DAYLIGHT
BEGIN:STANDARD
TZOFFSETFROM:-0400
TZOFFSETTO:-0500
TZNAME:EST
DTSTART:20251102T060000
END:STANDARD
BEGIN:DAYLIGHT
TZOFFSETFROM:-0500
TZOFFSETTO:-0400
TZNAME:EDT
DTSTART:20260308T070000
END:DAYLIGHT
BEGIN:STANDARD
TZOFFSETFROM:-0400
TZOFFSETTO:-0500
TZNAME:EST
DTSTART:20261101T060000
END:STANDARD
BEGIN:DAYLIGHT
TZOFFSETFROM:-0500
TZOFFSETTO:-0400
TZNAME:EDT
DTSTART:20270314T070000
END:DAYLIGHT
BEGIN:STANDARD
TZOFFSETFROM:-0400
TZOFFSETTO:-0500
TZNAME:EST
DTSTART:20271107T060000
END:STANDARD
END:VTIMEZONE
BEGIN:VEVENT
DTSTART;TZID=America/Detroit:20260129T170000
DTEND;TZID=America/Detroit:20260129T183000
DTSTAMP:20260422T190701
CREATED:20251119T145757Z
LAST-MODIFIED:20251218T145457Z
UID:13312-1769706000-1769711400@www.sldread.org
SUMMARY:Beyond LETRS: Literacy Training for Educators (Phonics & Spelling)
DESCRIPTION:Learn how to effectively utilize SLD Read’s reading\, spelling\, and concept drill decks to review and reinforce sound/letter identification and spelling. This workshop provides educators with practical strategies to strengthen literacy skills in early learners. \nWhat You’ll Learn:Techniques for using drill decks to support reading and spelling development\, methods for reinforcing sound and letter identification through structured activities\, strategies for engaging students in targeted literacy instruction \nWho Should Attend?Educators working with K-4 students\, parents/caregivers and tutors who want to enhance phonics and spelling instruction. \nWorkshop Details: \nKalamazoo Office:  5250 Lovers Lane\, Suite LL100 \nDuration: 1.5 hours (Part 2 of 2) \nCost: $125 per person for 2-part workshop
URL:https://www.sldread.org/event/beyond-letrs-literacy-training-for-educators-phonics-spelling-6/
LOCATION:Kalamazoo SLD Read Office\, 5250 Lovers Lane\, Portage\, MI\, 49002
END:VEVENT
BEGIN:VEVENT
DTSTART;TZID=America/Detroit:20260217T050000
DTEND;TZID=America/Detroit:20260217T190000
DTSTAMP:20260422T190701
CREATED:20251119T150627Z
LAST-MODIFIED:20251119T150627Z
UID:13316-1771304400-1771354800@www.sldread.org
SUMMARY:Beyond LETRS: Literacy Training for Educators (Multi-Sensory Strategies)
DESCRIPTION:Enhance reading instruction with hands-on\, multi-sensory techniques designed for large groups\, small groups\, and 1:1 learning. This workshop provides educators with a dynamic toolkit to support student engagement and reinforce literacy skills through interactive strategies. \nWhat You’ll Learn:\nProven multi-sensory methods for improving reading instruction \nTechniques like arm spelling\, SOS\, proofing\, CUPS/CLAP to strengthen literacy \nWays to integrate tactile materials for enriched experiences \nWho Should Attend?:\nPre-K-8th educators who want to enhance literacy instruction. \nWorkshop Details: \nGrand Rapids office:  2610 Horizon Dr. SE\, Suite 135\nDuration: 2 hours \nCost: $125 per person
URL:https://www.sldread.org/event/beyond-letrs-literacy-training-for-educators-multi-sensory-strategies-2/
LOCATION:Grand Rapids SLD Read Office\, 2650 Horizon Drive Southeast\, Grand Rapids\, MI\, 49546
END:VEVENT
BEGIN:VEVENT
DTSTART;TZID=America/Detroit:20260219T170000
DTEND;TZID=America/Detroit:20260219T183000
DTSTAMP:20260422T190701
CREATED:20251119T150807Z
LAST-MODIFIED:20251119T150807Z
UID:13319-1771520400-1771525800@www.sldread.org
SUMMARY:Beyond LETRS: Literacy Training for Educators (Multi-Sensory Strategies)
DESCRIPTION:Enhance reading instruction with hands-on\, multi-sensory techniques designed for large groups\, small groups\, and 1:1 learning. This workshop provides educators with a dynamic toolkit to support student engagement and reinforce literacy skills through interactive strategies. \nWhat You’ll Learn:\nProven multi-sensory methods for improving reading instruction \nTechniques like arm spelling\, SOS\, proofing\, CUPS/CLAP to strengthen literacy \nWays to integrate tactile materials for enriched experiences \nWho Should Attend?:\nPre-K-8th educators who want to enhance literacy instruction. \nWorkshop Details: \nKalamazoo Office:  5250 Lovers Lane\, Suite LL100\nDuration: 2 hours \nCost: $125 per person
URL:https://www.sldread.org/event/beyond-letrs-literacy-training-for-educators-multi-sensory-strategies-3/
LOCATION:Kalamazoo SLD Read Office\, 5250 Lovers Lane\, Portage\, MI\, 49002
END:VEVENT
BEGIN:VEVENT
DTSTART;TZID=America/Detroit:20260317T170000
DTEND;TZID=America/Detroit:20260317T183000
DTSTAMP:20260422T190701
CREATED:20251119T152712Z
LAST-MODIFIED:20251119T153645Z
UID:13322-1773766800-1773772200@www.sldread.org
SUMMARY:Beyond LETRS: Literacy Training for Educators (Concepts Workshop)
DESCRIPTION:Introduce and review key concepts with effective instructional strategies designed for large groups\, small groups\, centers\, and one-to-one instruction. This workshop provides educators with a foundational framework for delivering engaging 25-minute lessons adaptable to all concepts. \nWhat You’ll Learn:\nMethods for introducing and reviewing concepts across various instructional settings\nThe foundation of a structured 25-minute lesson that works for all concepts\nStrategies for enforcing learning and maximizing engagement \nWho Should Attend?:\nK-8 educators who are looking to refine their instructional techniques. Multi-Sensory Strategies Workshop is a prerequisite. \nWorkshop Details: \nKalamazoo office:  5250 Lovers Lane\, Suite LL100\nDuration: 1.5 hours (Part 1 of 2) \nCost: $225 per person for 2-part workshop ($50 off when you attend both Multi-Sensory Strategies and Concepts Workshops)
URL:https://www.sldread.org/event/beyond-letrs-literacy-training-for-educators-concepts-workshop-2/
LOCATION:Kalamazoo SLD Read Office\, 5250 Lovers Lane\, Portage\, MI\, 49002
END:VEVENT
BEGIN:VEVENT
DTSTART;TZID=America/Detroit:20260319T170000
DTEND;TZID=America/Detroit:20260319T183000
DTSTAMP:20260422T190701
CREATED:20251119T153107Z
LAST-MODIFIED:20251119T153541Z
UID:13325-1773939600-1773945000@www.sldread.org
SUMMARY:Beyond LETRS: Literacy Training for Educators (Concepts Workshop)
DESCRIPTION:Introduce and review key concepts with effective instructional strategies designed for large groups\, small groups\, centers\, and one-to-one instruction. This workshop provides educators with a foundational framework for delivering engaging 25-minute lessons adaptable to all concepts. \nWhat You’ll Learn:\nMethods for introducing and reviewing concepts across various instructional settings\nThe foundation of a structured 25-minute lesson that works for all concepts\nStrategies for enforcing learning and maximizing engagement \nWho Should Attend?:\nK-8 educators who are looking to refine their instructional techniques. Multi-Sensory Strategies Workshop is a prerequisite. \nWorkshop Details: \nKalamazoo office:  5250 Lovers Lane\, Suite LL 100\nDuration: 1.5 hours (Part 2 of 2) \nCost: $225 per person for 2-part workshop ($50 off when you attend both Multi-Sensory Strategies and Concepts Workshops)
URL:https://www.sldread.org/event/beyond-letrs-literacy-training-for-educators-concepts-workshop-3/
LOCATION:Kalamazoo SLD Read Office\, 5250 Lovers Lane\, Portage\, MI\, 49002
END:VEVENT
BEGIN:VEVENT
DTSTART;TZID=America/Detroit:20260324T170000
DTEND;TZID=America/Detroit:20260324T183000
DTSTAMP:20260422T190701
CREATED:20251119T153406Z
LAST-MODIFIED:20251119T153743Z
UID:13328-1774371600-1774377000@www.sldread.org
SUMMARY:Beyond LETRS: Literacy Training for Educators (Concepts Workshop)
DESCRIPTION:Introduce and review key concepts with effective instructional strategies designed for large groups\, small groups\, centers\, and one-to-one instruction. This workshop provides educators with a foundational framework for delivering engaging 25-minute lessons adaptable to all concepts. \nWhat You’ll Learn:\nMethods for introducing and reviewing concepts across various instructional settings\nThe foundation of a structured 25-minute lesson that works for all concepts\nStrategies for enforcing learning and maximizing engagement \nWho Should Attend?:\nK-8 educators who are looking to refine their instructional techniques. Multi-Sensory Strategies Workshop is a prerequisite. \nWorkshop Details: \nGrand Rapids office:  2610 Horizon Dr SE\, Suite 135\nDuration: 1.5 hours (Part 2 of 2) \nCost: $225 per person for 2-part workshop ($50 off when you attend both Multi-Sensory Strategies and Concepts Workshops)
URL:https://www.sldread.org/event/beyond-letrs-literacy-training-for-educators-concepts-workshop-4/
LOCATION:Kalamazoo SLD Read Office\, 5250 Lovers Lane\, Portage\, MI\, 49002
END:VEVENT
BEGIN:VEVENT
DTSTART;TZID=America/Detroit:20260326T170000
DTEND;TZID=America/Detroit:20260326T183000
DTSTAMP:20260422T190701
CREATED:20251119T154000Z
LAST-MODIFIED:20251119T154000Z
UID:13335-1774544400-1774549800@www.sldread.org
SUMMARY:Beyond LETRS: Literacy Training for Educators (Concepts Workshop)
DESCRIPTION:Introduce and review key concepts with effective instructional strategies designed for large groups\, small groups\, centers\, and one-to-one instruction. This workshop provides educators with a foundational framework for delivering engaging 25-minute lessons adaptable to all concepts. \nWhat You’ll Learn:\nMethods for introducing and reviewing concepts across various instructional settings\nThe foundation of a structured 25-minute lesson that works for all concepts\nStrategies for enforcing learning and maximizing engagement \nWho Should Attend?:\nK-8 educators who are looking to refine their instructional techniques. Multi-Sensory Strategies Workshop is a prerequisite. \nWorkshop Details: \nGrand Rapids office:  2610 Horizon Dr. SE\, Suite 135\nDuration: 1.5 hours (Part 2 of 2) \nCost: $225 per person for 2-part workshop ($50 off when you attend both Multi-Sensory Strategies and Concepts Workshops)
URL:https://www.sldread.org/event/beyond-letrs-literacy-training-for-educators-concepts-workshop-5/
LOCATION:Kalamazoo SLD Read Office\, 5250 Lovers Lane\, Portage\, MI\, 49002
END:VEVENT
BEGIN:VEVENT
DTSTART;TZID=America/Detroit:20260414T170000
DTEND;TZID=America/Detroit:20260414T183000
DTSTAMP:20260422T190701
CREATED:20251119T154841Z
LAST-MODIFIED:20251119T154841Z
UID:13338-1776186000-1776191400@www.sldread.org
SUMMARY:Beyond LETRS: Literacy Training for Educators (Phonological Awareness)
DESCRIPTION:Designed for Pre-K–4 educators\, this interactive workshop helps develop phonological awareness to support strong\, confident readers. Participants will engage in hands-on activities and exercises that build essential pre-reading skills—including syllable segmentation\, rhyming\, and sound recognition. \n125 page binder of scripted activities included.  $125 per person for 2 part series. \nPart 1 of 2 \nKalamazoo office:  5250 Lovers Lane\, Suite LL100
URL:https://www.sldread.org/event/beyond-letrs-literacy-training-for-educators-phonological-awareness/
LOCATION:Kalamazoo SLD Read Office\, 5250 Lovers Lane\, Portage\, MI\, 49002
END:VEVENT
BEGIN:VEVENT
DTSTART;TZID=America/Detroit:20260416T170000
DTEND;TZID=America/Detroit:20260416T183000
DTSTAMP:20260422T190701
CREATED:20251119T155057Z
LAST-MODIFIED:20251119T155057Z
UID:13342-1776358800-1776364200@www.sldread.org
SUMMARY:Beyond LETRS: Literacy Training for Educators (Phonological Awareness)
DESCRIPTION:Designed for Pre-K–4 educators\, this interactive workshop helps develop phonological awareness to support strong\, confident readers. Participants will engage in hands-on activities and exercises that build essential pre-reading skills—including syllable segmentation\, rhyming\, and sound recognition. \n125 page binder of scripted activities included.  $125 per person for 2 part series \nPart 2 of 2 \nKalamazoo office:  5250 Lovers Lane\, Suite LL100
URL:https://www.sldread.org/event/beyond-letrs-literacy-training-for-educators-phonological-awareness-2/
LOCATION:Kalamazoo SLD Read Office\, 5250 Lovers Lane\, Portage\, MI\, 49002
END:VEVENT
BEGIN:VEVENT
DTSTART;TZID=America/Detroit:20260421T170000
DTEND;TZID=America/Detroit:20260421T183000
DTSTAMP:20260422T190701
CREATED:20251119T155400Z
LAST-MODIFIED:20251119T155400Z
UID:13345-1776790800-1776796200@www.sldread.org
SUMMARY:Beyond LETRS: Literacy Training for Educators (Phonological Awareness)
DESCRIPTION:Designed for Pre-K–4 educators\, this interactive workshop helps develop phonological awareness to support strong\, confident readers. Participants will engage in hands-on activities and exercises that build essential pre-reading skills—including syllable segmentation\, rhyming\, and sound recognition. \n  \n12 page binder of scripted activities included.  $125 per person. \nPart 1 of 2\, Grand Rapids office:  2610 Horizon Dr SE\, Suite 135
URL:https://www.sldread.org/event/beyond-letrs-literacy-training-for-educators-phonological-awareness-3/
LOCATION:Kalamazoo SLD Read Office\, 5250 Lovers Lane\, Portage\, MI\, 49002
END:VEVENT
BEGIN:VEVENT
DTSTART;TZID=America/Detroit:20260423T170000
DTEND;TZID=America/Detroit:20260423T183000
DTSTAMP:20260422T190701
CREATED:20251119T155851Z
LAST-MODIFIED:20251119T155851Z
UID:13348-1776963600-1776969000@www.sldread.org
SUMMARY:Beyond LETRS: Literacy Training for Educators (Phonological Awareness)
DESCRIPTION:Designed for Pre-K–4 educators\, this interactive workshop helps develop phonological awareness to support strong\, confident readers. Participants will engage in hands-on activities and exercises that build essential pre-reading skills—including syllable segmentation\, rhyming\, and sound recognition. \n125 page binder of scripted activities included.  $125 per person for 2 part series \nPart 2 of 2\, Grand Rapids office:  2610 Horizon Dr SE\, Suite 135
URL:https://www.sldread.org/event/beyond-letrs-literacy-training-for-educators-phonological-awareness-4/
END:VEVENT
END:VCALENDAR