BEGIN:VCALENDAR
VERSION:2.0
PRODID:-// - ECPv6.15.15//NONSGML v1.0//EN
CALSCALE:GREGORIAN
METHOD:PUBLISH
X-ORIGINAL-URL:https://www.sldread.org
X-WR-CALDESC:Events for 
REFRESH-INTERVAL;VALUE=DURATION:PT1H
X-Robots-Tag:noindex
X-PUBLISHED-TTL:PT1H
BEGIN:VTIMEZONE
TZID:America/Detroit
BEGIN:DAYLIGHT
TZOFFSETFROM:-0500
TZOFFSETTO:-0400
TZNAME:EDT
DTSTART:20240310T070000
END:DAYLIGHT
BEGIN:STANDARD
TZOFFSETFROM:-0400
TZOFFSETTO:-0500
TZNAME:EST
DTSTART:20241103T060000
END:STANDARD
BEGIN:DAYLIGHT
TZOFFSETFROM:-0500
TZOFFSETTO:-0400
TZNAME:EDT
DTSTART:20250309T070000
END:DAYLIGHT
BEGIN:STANDARD
TZOFFSETFROM:-0400
TZOFFSETTO:-0500
TZNAME:EST
DTSTART:20251102T060000
END:STANDARD
BEGIN:DAYLIGHT
TZOFFSETFROM:-0500
TZOFFSETTO:-0400
TZNAME:EDT
DTSTART:20260308T070000
END:DAYLIGHT
BEGIN:STANDARD
TZOFFSETFROM:-0400
TZOFFSETTO:-0500
TZNAME:EST
DTSTART:20261101T060000
END:STANDARD
END:VTIMEZONE
BEGIN:VEVENT
DTSTART;TZID=America/Detroit:20251104T170000
DTEND;TZID=America/Detroit:20251104T183000
DTSTAMP:20260422T150048
CREATED:20250902T133040Z
LAST-MODIFIED:20250902T133040Z
UID:13158-1762275600-1762281000@www.sldread.org
SUMMARY:Beyond LETRS:  Literacy Training for Educators (Phonics & Spelling)
DESCRIPTION:Learn how to effectively utilize SLD Read’s reading\, spelling\, and concept drill decks to review and reinforce sound/letter identification and spelling. This workshop provides educators with practical strategies to strengthen literacy skills in early learners. \nWhat You’ll Learn:\nTechniques for using drill decks to support reading and spelling development\, methods for reinforcing sound and letter identification through structured activities\, strategies for engaging students in targeted literacy instruction \nWho Should Attend?\nEducators working with K-4 students who want to enhance phonics and spelling instruction. \nWorkshop Details: \nDuration: 1.5 hours (Part 1 of 2) \nCost: $225 per person for 2-part workshop
URL:https://www.sldread.org/event/beyond-letrs-literacy-training-for-educators-phonics-spelling/
LOCATION:Grand Rapids SLD Read Office\, 2650 Horizon Drive Southeast\, Grand Rapids\, MI\, 49546
END:VEVENT
BEGIN:VEVENT
DTSTART;TZID=America/Detroit:20251106T170000
DTEND;TZID=America/Detroit:20251106T183000
DTSTAMP:20260422T150048
CREATED:20250902T133254Z
LAST-MODIFIED:20250902T133254Z
UID:13161-1762448400-1762453800@www.sldread.org
SUMMARY:Beyond LETRS:  Literacy Training for Educators (Phonics & Spelling)
DESCRIPTION:Learn how to effectively utilize SLD Read’s reading\, spelling\, and concept drill decks to review and reinforce sound/letter identification and spelling. This workshop provides educators with practical strategies to strengthen literacy skills in early learners. \nWhat You’ll Learn:\nTechniques for using drill decks to support reading and spelling development\, methods for reinforcing sound and letter identification through structured activities\, strategies for engaging students in targeted literacy instruction \nWho Should Attend?\nEducators working with K-4 students who want to enhance phonics and spelling instruction. \nWorkshop Details: \nDuration: 1.5 hours (Part 2 of 2) \nCost: $225 per person for 2-part workshop
URL:https://www.sldread.org/event/beyond-letrs-literacy-training-for-educators-phonics-spelling-2/
LOCATION:Grand Rapids SLD Read Office\, 2650 Horizon Drive Southeast\, Grand Rapids\, MI\, 49546
END:VEVENT
BEGIN:VEVENT
DTSTART;TZID=America/Detroit:20251111T170000
DTEND;TZID=America/Detroit:20251111T190000
DTSTAMP:20260422T150048
CREATED:20250905T132038Z
LAST-MODIFIED:20250905T132038Z
UID:13183-1762880400-1762887600@www.sldread.org
SUMMARY:Beyond LETRS:  Literacy Training for Educators  **Multi-Sensory Strategies**
DESCRIPTION:Enhance reading instruction with hands-on\, multi-sensory techniques designed for large groups\, small groups\, and 1:1 learning. This workshop provides educators with a dynamic toolkit to support student engagement and reinforce literacy skills through interactive strategies.\n\nWhat You’ll Learn:Proven multi-sensory methods for improving reading instruction \nTechniques like arm spelling\, SOS\, proofing\, CUPS/CLAP to strengthen literacy\n\nWays to integrate tactile materials for enriched experiences\n\nWho Should Attend?:Pre-K-8th educators who want to enhance literacy instruction.\n\nWorkshop Details:Duration: 2 hours\n\nCost: $125 per person
URL:https://www.sldread.org/event/beyond-letrs-literacy-training-for-educators-multi-sensory-strategies/
LOCATION:Grand Rapids SLD Read Office\, 2650 Horizon Drive Southeast\, Grand Rapids\, MI\, 49546
END:VEVENT
BEGIN:VEVENT
DTSTART;TZID=America/Detroit:20251113T170000
DTEND;TZID=America/Detroit:20251113T183000
DTSTAMP:20260422T150048
CREATED:20250905T134103Z
LAST-MODIFIED:20250905T134103Z
UID:13185-1763053200-1763058600@www.sldread.org
SUMMARY:Beyond LETRS:  Literacy Training for Educators **Concepts Workshops**
DESCRIPTION:Introduce and review key concepts with effective instructional strategies designed for large groups\, small groups\, centers\, and one-to-one instruction. This workshop provides educators with a foundational framework for delivering engaging 25-minute lessons adaptable to all concepts.\n\nWhat You’ll Learn:Methods for introducing and reviewing concepts across various instructional settingsThe foundation of a structured 25-minute lesson that works for all conceptsStrategies for enforcing learning and maximizing engagement\n\nWho Should Attend?:K-8 educators who are looking to refine their instructional techniques. Multi-Sensory Strategies Workshop is a prerequisite.\n\nWorkshop Details:Duration: 1.5 hours (Part 1 of 2)\nCost: $225 per person for 2-part workshop ($50 off when you attend both Multi-Sensory Strategies and Concepts Workshops)
URL:https://www.sldread.org/event/beyond-letrs-literacy-training-for-educators-concepts-workshops/
LOCATION:Grand Rapids SLD Read Office\, 2650 Horizon Drive Southeast\, Grand Rapids\, MI\, 49546
END:VEVENT
BEGIN:VEVENT
DTSTART;TZID=America/Detroit:20251118T170000
DTEND;TZID=America/Detroit:20251118T183000
DTSTAMP:20260422T150048
CREATED:20250905T134521Z
LAST-MODIFIED:20250905T134521Z
UID:13189-1763485200-1763490600@www.sldread.org
SUMMARY:Beyond LETRS:  Literacy Training for Educators **CONCEPTS Workshop**
DESCRIPTION:Introduce and review key concepts with effective instructional strategies designed for large groups\, small groups\, centers\, and one-to-one instruction. This workshop provides educators with a foundational framework for delivering engaging 25-minute lessons adaptable to all concepts.\n\nWhat You’ll Learn:Methods for introducing and reviewing concepts across various instructional settingsThe foundation of a structured 25-minute lesson that works for all conceptsStrategies for enforcing learning and maximizing engagement\n\nWho Should Attend?:K-8 educators who are looking to refine their instructional techniques. Multi-Sensory Strategies Workshop is a prerequisite.\n\nWorkshop Details:Duration: 1.5 hours (Part 2 of 2)\nCost: $225 per person for 2-part workshop ($50 off when you attend both Multi-Sensory Strategies and Concepts Workshops)
URL:https://www.sldread.org/event/beyond-letrs-literacy-training-for-educators-concepts-workshop/
LOCATION:Grand Rapids SLD Read Office\, 2650 Horizon Drive Southeast\, Grand Rapids\, MI\, 49546
END:VEVENT
END:VCALENDAR