BEGIN:VCALENDAR
VERSION:2.0
PRODID:-// - ECPv6.15.15//NONSGML v1.0//EN
CALSCALE:GREGORIAN
METHOD:PUBLISH
X-ORIGINAL-URL:https://www.sldread.org
X-WR-CALDESC:Events for 
REFRESH-INTERVAL;VALUE=DURATION:PT1H
X-Robots-Tag:noindex
X-PUBLISHED-TTL:PT1H
BEGIN:VTIMEZONE
TZID:America/Detroit
BEGIN:DAYLIGHT
TZOFFSETFROM:-0500
TZOFFSETTO:-0400
TZNAME:EDT
DTSTART:20250309T070000
END:DAYLIGHT
BEGIN:STANDARD
TZOFFSETFROM:-0400
TZOFFSETTO:-0500
TZNAME:EST
DTSTART:20251102T060000
END:STANDARD
BEGIN:DAYLIGHT
TZOFFSETFROM:-0500
TZOFFSETTO:-0400
TZNAME:EDT
DTSTART:20260308T070000
END:DAYLIGHT
BEGIN:STANDARD
TZOFFSETFROM:-0400
TZOFFSETTO:-0500
TZNAME:EST
DTSTART:20261101T060000
END:STANDARD
BEGIN:DAYLIGHT
TZOFFSETFROM:-0500
TZOFFSETTO:-0400
TZNAME:EDT
DTSTART:20270314T070000
END:DAYLIGHT
BEGIN:STANDARD
TZOFFSETFROM:-0400
TZOFFSETTO:-0500
TZNAME:EST
DTSTART:20271107T060000
END:STANDARD
END:VTIMEZONE
BEGIN:VEVENT
DTSTART;TZID=America/Detroit:20260120T170000
DTEND;TZID=America/Detroit:20260120T183000
DTSTAMP:20260422T115428
CREATED:20251119T144706Z
LAST-MODIFIED:20251218T145722Z
UID:13300-1768928400-1768933800@www.sldread.org
SUMMARY:Beyond LETRS: Literacy Training for Educators (Phonics & Spelling)
DESCRIPTION:Learn how to effectively utilize SLD Read’s reading\, spelling\, and concept drill decks to review and reinforce sound/letter identification and spelling. This workshop provides educators with practical strategies to strengthen literacy skills in early learners. \nWhat You’ll Learn:Techniques for using drill decks to support reading and spelling development\, methods for reinforcing sound and letter identification through structured activities\, strategies for engaging students in targeted literacy instruction \nWho Should Attend?Educators working with K-4 students\, parents/caregivers\, tutors who want to enhance phonics and spelling instruction. \nWorkshop Details: \nGrand Rapids office:  2610 Horizon Dr. SE\, Suite 135 \nDuration: 1.5 hours (Part 1 of 2) \nCost: $125 per person for 2-part workshop
URL:https://www.sldread.org/event/beyond-letrs-literacy-training-for-educators-phonics-spelling-3/
LOCATION:Grand Rapids SLD Read Office\, 2650 Horizon Drive Southeast\, Grand Rapids\, MI\, 49546
CATEGORIES:Trainings,Workshop
END:VEVENT
BEGIN:VEVENT
DTSTART;TZID=America/Detroit:20260122T170000
DTEND;TZID=America/Detroit:20260122T183000
DTSTAMP:20260422T115428
CREATED:20251119T145418Z
LAST-MODIFIED:20251218T145641Z
UID:13306-1769101200-1769106600@www.sldread.org
SUMMARY:Beyond LETRS: Literacy Training for Educators (Phonics & Spelling)
DESCRIPTION:Learn how to effectively utilize SLD Read’s reading\, spelling\, and concept drill decks to review and reinforce sound/letter identification and spelling. This workshop provides educators with practical strategies to strengthen literacy skills in early learners. \nWhat You’ll Learn:Techniques for using drill decks to support reading and spelling development\, methods for reinforcing sound and letter identification through structured activities\, strategies for engaging students in targeted literacy instruction \nWho Should Attend?Educators working with K-4 students\, parents/caregivers\, tutors who want to enhance phonics and spelling instruction. \nWorkshop Details: \nGrand Rapids office:  2610 Horizon Dr. SE\, Suite 135 \nDuration: 1.5 hours (Part 2 of 2) \nCost: $125 per person for 2-part workshop
URL:https://www.sldread.org/event/beyond-letrs-literacy-training-for-educators-phonics-spelling-4/
LOCATION:Grand Rapids SLD Read Office\, 2650 Horizon Drive Southeast\, Grand Rapids\, MI\, 49546
END:VEVENT
BEGIN:VEVENT
DTSTART;TZID=America/Detroit:20260127T170000
DTEND;TZID=America/Detroit:20260127T183000
DTSTAMP:20260422T115428
CREATED:20251119T145545Z
LAST-MODIFIED:20251218T145554Z
UID:13309-1769533200-1769538600@www.sldread.org
SUMMARY:Beyond LETRS: Literacy Training for Educators (Phonics & Spelling)
DESCRIPTION:Learn how to effectively utilize SLD Read’s reading\, spelling\, and concept drill decks to review and reinforce sound/letter identification and spelling. This workshop provides educators with practical strategies to strengthen literacy skills in early learners. \nWhat You’ll Learn:Techniques for using drill decks to support reading and spelling development\, methods for reinforcing sound and letter identification through structured activities\, strategies for engaging students in targeted literacy instruction \nWho Should Attend?Educators working with K-4 students\, parents/caregivers and tutors who want to enhance phonics and spelling instruction. \nWorkshop Details: \nKalamazoo office:  5250 Lovers Lane\, Suite LL100 \nDuration: 1.5 hours (Part 1 of 2) \nCost: $125 per person for 2-part workshop
URL:https://www.sldread.org/event/beyond-letrs-literacy-training-for-educators-phonics-spelling-5/
LOCATION:Kalamazoo SLD Read Office\, 5250 Lovers Lane\, Portage\, MI\, 49002
END:VEVENT
BEGIN:VEVENT
DTSTART;TZID=America/Detroit:20260129T170000
DTEND;TZID=America/Detroit:20260129T183000
DTSTAMP:20260422T115428
CREATED:20251119T145757Z
LAST-MODIFIED:20251218T145457Z
UID:13312-1769706000-1769711400@www.sldread.org
SUMMARY:Beyond LETRS: Literacy Training for Educators (Phonics & Spelling)
DESCRIPTION:Learn how to effectively utilize SLD Read’s reading\, spelling\, and concept drill decks to review and reinforce sound/letter identification and spelling. This workshop provides educators with practical strategies to strengthen literacy skills in early learners. \nWhat You’ll Learn:Techniques for using drill decks to support reading and spelling development\, methods for reinforcing sound and letter identification through structured activities\, strategies for engaging students in targeted literacy instruction \nWho Should Attend?Educators working with K-4 students\, parents/caregivers and tutors who want to enhance phonics and spelling instruction. \nWorkshop Details: \nKalamazoo Office:  5250 Lovers Lane\, Suite LL100 \nDuration: 1.5 hours (Part 2 of 2) \nCost: $125 per person for 2-part workshop
URL:https://www.sldread.org/event/beyond-letrs-literacy-training-for-educators-phonics-spelling-6/
LOCATION:Kalamazoo SLD Read Office\, 5250 Lovers Lane\, Portage\, MI\, 49002
END:VEVENT
END:VCALENDAR